BEGIN:VCALENDAR
VERSION:2.0
PRODID:-//Tri-Lakes Cares - ECPv6.15.20//NONSGML v1.0//EN
CALSCALE:GREGORIAN
METHOD:PUBLISH
X-WR-CALNAME:Tri-Lakes Cares
X-ORIGINAL-URL:https://tri-lakescares.org
X-WR-CALDESC:Events for Tri-Lakes Cares
REFRESH-INTERVAL;VALUE=DURATION:PT1H
X-Robots-Tag:noindex
X-PUBLISHED-TTL:PT1H
BEGIN:VTIMEZONE
TZID:America/Denver
BEGIN:DAYLIGHT
TZOFFSETFROM:-0700
TZOFFSETTO:-0600
TZNAME:MDT
DTSTART:20240310T090000
END:DAYLIGHT
BEGIN:STANDARD
TZOFFSETFROM:-0600
TZOFFSETTO:-0700
TZNAME:MST
DTSTART:20241103T080000
END:STANDARD
BEGIN:DAYLIGHT
TZOFFSETFROM:-0700
TZOFFSETTO:-0600
TZNAME:MDT
DTSTART:20250309T090000
END:DAYLIGHT
BEGIN:STANDARD
TZOFFSETFROM:-0600
TZOFFSETTO:-0700
TZNAME:MST
DTSTART:20251102T080000
END:STANDARD
BEGIN:DAYLIGHT
TZOFFSETFROM:-0700
TZOFFSETTO:-0600
TZNAME:MDT
DTSTART:20260308T090000
END:DAYLIGHT
BEGIN:STANDARD
TZOFFSETFROM:-0600
TZOFFSETTO:-0700
TZNAME:MST
DTSTART:20261101T080000
END:STANDARD
END:VTIMEZONE
BEGIN:VEVENT
DTSTART;TZID=America/Denver:20251114T143000
DTEND;TZID=America/Denver:20251114T170000
DTSTAMP:20260421T071422
CREATED:20251019T170655Z
LAST-MODIFIED:20251023T155016Z
UID:26370-1763130600-1763139600@tri-lakescares.org
SUMMARY:UnCharitable Film Screening
DESCRIPTION:Presented by Tri-Lakes Cares\, Catholic Charities of Central Colorado\, and Homeward Pikes Peak \nJoin us for a powerful screening of UnCharitable\, a thought-provoking documentary that challenges traditional views on philanthropy and nonprofit work. Popcorn and water will be served during the screening. A panel discussion by our host nonprofits will follow the movie \nInspired by Dan Pallotta’s book Uncharitable\, the film explores how outdated views on charity have stifled four major American efforts. Through powerful stories and expert voices\, it reveals how embracing bold\, modern approaches can unlock charity’s true potential to build a better world for all. \nDate: November 14\, 2025 \nLocation: Library 21C. 1175 Chapel Hills Drive Colorado Springs\, CO 80920 \nTime: Doors open at 2:30 pm \nAdmission: Free\, but donations will be accepted \nRSVP: Please secure your spot by emailing RSVP@Tri-LakesCares.org. \nCome be part of the conversation about how we can better support meaningful change in our communities.
URL:https://tri-lakescares.org/events/uncharitable-film-screening/
LOCATION:Library 21C\, 1175 Chapel Hills Dr\, Colorado Springs\, CO\, 80920
CATEGORIES:Community Outreach and Advocacy
ATTACH;FMTTYPE=image/jpeg:https://tri-lakescares.org/wp-content/uploads/2025/10/uncharitable.jpeg
ORGANIZER;CN="Tri-Lakes Cares":MAILTO:JessicaG@Tri-LakesCares.org
END:VEVENT
END:VCALENDAR