BEGIN:VCALENDAR
VERSION:2.0
PRODID:-//Tri-Lakes Cares - ECPv6.15.20//NONSGML v1.0//EN
CALSCALE:GREGORIAN
METHOD:PUBLISH
X-WR-CALNAME:Tri-Lakes Cares
X-ORIGINAL-URL:https://tri-lakescares.org
X-WR-CALDESC:Events for Tri-Lakes Cares
REFRESH-INTERVAL;VALUE=DURATION:PT1H
X-Robots-Tag:noindex
X-PUBLISHED-TTL:PT1H
BEGIN:VTIMEZONE
TZID:America/Denver
BEGIN:DAYLIGHT
TZOFFSETFROM:-0700
TZOFFSETTO:-0600
TZNAME:MDT
DTSTART:20240310T090000
END:DAYLIGHT
BEGIN:STANDARD
TZOFFSETFROM:-0600
TZOFFSETTO:-0700
TZNAME:MST
DTSTART:20241103T080000
END:STANDARD
BEGIN:DAYLIGHT
TZOFFSETFROM:-0700
TZOFFSETTO:-0600
TZNAME:MDT
DTSTART:20250309T090000
END:DAYLIGHT
BEGIN:STANDARD
TZOFFSETFROM:-0600
TZOFFSETTO:-0700
TZNAME:MST
DTSTART:20251102T080000
END:STANDARD
BEGIN:DAYLIGHT
TZOFFSETFROM:-0700
TZOFFSETTO:-0600
TZNAME:MDT
DTSTART:20260308T090000
END:DAYLIGHT
BEGIN:STANDARD
TZOFFSETFROM:-0600
TZOFFSETTO:-0700
TZNAME:MST
DTSTART:20261101T080000
END:STANDARD
END:VTIMEZONE
BEGIN:VEVENT
DTSTART;TZID=America/Denver:20251219T190000
DTEND;TZID=America/Denver:20251221T153000
DTSTAMP:20260421T072200
CREATED:20240906T183725Z
LAST-MODIFIED:20251103T212030Z
UID:18922-1766170800-1766331000@tri-lakescares.org
SUMMARY:Tri-Lakes Music Association Presents The Majesty of Christmas
DESCRIPTION:The Tri-Lakes Music Association presents The Majesty of Christmas. This event is free and open to the public. A free-will offering will be collected to benefit Tri-Lakes Cares. \n\nWHEN: December 19 & 20 at 7 pm and December 21 at 2 p.m. \nWHERE: Palmer Ridge High School \nWHAT TO KNOW: A free-will offering will be collected to benefit Tri-Lakes Cares. \nTICKETS: None required
URL:https://tri-lakescares.org/events/tri-lakes-music-association-presents-my-christmas-prayer/
LOCATION:Palmer Ridge High School\, 19255 Frontage Rd\, Monument\, CO\, 80132\, United States
CATEGORIES:Event Benefiting Tri-Lakes Cares
ATTACH;FMTTYPE=image/jpeg:https://tri-lakescares.org/wp-content/uploads/2023/12/Christmas-Music.jpg
END:VEVENT
END:VCALENDAR