BEGIN:VCALENDAR
VERSION:2.0
PRODID:-//Tri-Lakes Cares - ECPv6.15.20//NONSGML v1.0//EN
CALSCALE:GREGORIAN
METHOD:PUBLISH
X-WR-CALNAME:Tri-Lakes Cares
X-ORIGINAL-URL:https://tri-lakescares.org
X-WR-CALDESC:Events for Tri-Lakes Cares
REFRESH-INTERVAL;VALUE=DURATION:PT1H
X-Robots-Tag:noindex
X-PUBLISHED-TTL:PT1H
BEGIN:VTIMEZONE
TZID:America/Denver
BEGIN:DAYLIGHT
TZOFFSETFROM:-0700
TZOFFSETTO:-0600
TZNAME:MDT
DTSTART:20240310T090000
END:DAYLIGHT
BEGIN:STANDARD
TZOFFSETFROM:-0600
TZOFFSETTO:-0700
TZNAME:MST
DTSTART:20241103T080000
END:STANDARD
BEGIN:DAYLIGHT
TZOFFSETFROM:-0700
TZOFFSETTO:-0600
TZNAME:MDT
DTSTART:20250309T090000
END:DAYLIGHT
BEGIN:STANDARD
TZOFFSETFROM:-0600
TZOFFSETTO:-0700
TZNAME:MST
DTSTART:20251102T080000
END:STANDARD
BEGIN:DAYLIGHT
TZOFFSETFROM:-0700
TZOFFSETTO:-0600
TZNAME:MDT
DTSTART:20260308T090000
END:DAYLIGHT
BEGIN:STANDARD
TZOFFSETFROM:-0600
TZOFFSETTO:-0700
TZNAME:MST
DTSTART:20261101T080000
END:STANDARD
END:VTIMEZONE
BEGIN:VEVENT
DTSTART;TZID=America/Denver:20251212T190000
DTEND;TZID=America/Denver:20251212T210000
DTSTAMP:20260421T061359
CREATED:20241118T224126Z
LAST-MODIFIED:20251103T212120Z
UID:20055-1765566000-1765573200@tri-lakescares.org
SUMMARY:One Star - A Christmas Concert
DESCRIPTION:Come join us for a Christmas Concert featuring J.J. Kaelin\, vocalist\, Theresa Phillips\, violinist\, Pam Chaddon\, cellist\, and Robert Lambrech\, pianist. Proceeds will benefit Tri-Lakes Cares. \nWHEN: Friday\, December 12\, 2025 at 7 pm \nWHERE: St Peter Catholic Church \nWHAT TO KNOW: Please bring non-perishable food items for the Tri-Lakes Cares Pantry \nTICKETS: No tickets required \nDONATE: Can’t make the concert? Support the event through a donation.
URL:https://tri-lakescares.org/events/one-star-a-christmas-concert/
LOCATION:St Peter Catholic Church\, 55 N. Jefferson St\, Monument\, CO\, 80132\, United States
CATEGORIES:Event Benefiting Tri-Lakes Cares
ATTACH;FMTTYPE=image/png:https://tri-lakescares.org/wp-content/uploads/2024/11/Piano-Graphic-scaled.png
END:VEVENT
END:VCALENDAR