BEGIN:VCALENDAR
VERSION:2.0
PRODID:-//Tri-Lakes Cares - ECPv6.15.20//NONSGML v1.0//EN
CALSCALE:GREGORIAN
METHOD:PUBLISH
X-ORIGINAL-URL:https://tri-lakescares.org
X-WR-CALDESC:Events for Tri-Lakes Cares
REFRESH-INTERVAL;VALUE=DURATION:PT1H
X-Robots-Tag:noindex
X-PUBLISHED-TTL:PT1H
BEGIN:VTIMEZONE
TZID:America/Denver
BEGIN:DAYLIGHT
TZOFFSETFROM:-0700
TZOFFSETTO:-0600
TZNAME:MDT
DTSTART:20250309T090000
END:DAYLIGHT
BEGIN:STANDARD
TZOFFSETFROM:-0600
TZOFFSETTO:-0700
TZNAME:MST
DTSTART:20251102T080000
END:STANDARD
BEGIN:DAYLIGHT
TZOFFSETFROM:-0700
TZOFFSETTO:-0600
TZNAME:MDT
DTSTART:20260308T090000
END:DAYLIGHT
BEGIN:STANDARD
TZOFFSETFROM:-0600
TZOFFSETTO:-0700
TZNAME:MST
DTSTART:20261101T080000
END:STANDARD
BEGIN:DAYLIGHT
TZOFFSETFROM:-0700
TZOFFSETTO:-0600
TZNAME:MDT
DTSTART:20270314T090000
END:DAYLIGHT
BEGIN:STANDARD
TZOFFSETFROM:-0600
TZOFFSETTO:-0700
TZNAME:MST
DTSTART:20271107T080000
END:STANDARD
END:VTIMEZONE
BEGIN:VEVENT
DTSTART;TZID=America/Denver:20260316T063000
DTEND;TZID=America/Denver:20260321T220000
DTSTAMP:20260421T090221
CREATED:20240905T225216Z
LAST-MODIFIED:20260226T222040Z
UID:18913-1773642600-1774130400@tri-lakescares.org
SUMMARY:Chick-fil-A Northgate Cookies for a Cause
DESCRIPTION:Each cookie sold will earn $.25 for Tri-Lakes Cares! \nWHEN: March 16 – 21\, 2026 \nWHERE: Chick-fil-A Northgate 391 Spectrum Loop\, Colorado Springs\, CO 80921 and Chick-fil-A 7990 N Academy\, Colorado Springs\, CO 80920 \nWHAT TO KNOW:  There will be cards randomly placed in cookies throughout the week that are for free menu items that guests can win. \nTICKETS: None needed \n 
URL:https://tri-lakescares.org/events/chick-fil-a-northgate-cookies-for-a-cause/
LOCATION:Chick-fil-A\, 391 Spectrum Loop\, Colorado Springs\, 80921\, United States
CATEGORIES:Event Benefiting Tri-Lakes Cares
ATTACH;FMTTYPE=image/jpeg:https://tri-lakescares.org/wp-content/uploads/2024/02/Cookies-1-scaled.jpg
END:VEVENT
BEGIN:VEVENT
DTSTART;TZID=America/Denver:20260321T073000
DTEND;TZID=America/Denver:20260321T090000
DTSTAMP:20260421T090221
CREATED:20240905T223112Z
LAST-MODIFIED:20260226T221031Z
UID:18909-1774078200-1774083600@tri-lakescares.org
SUMMARY:Bethesda Gardens Monument Hop-Out Hunger
DESCRIPTION:All-you-can-eat pancakes and limited meat options. Refreshments and toppings bar included. $10/person per meal or 10 non-perishable food items. RSVP to Allison Eliasen at AEliasen@ba.org or 719-400-9545. \nWHEN: March 21\, 2026\, 7:30 am – 9 am \nWHERE: Bethesda Gardens Monument 55 Beacon Lite Road\, Monument\, CO 80132 \nWHAT TO KNOW: Help battle hunger. Proceeds benefit Tri-Lakes Cares. \nTICKETS: RSVP to Allison Eliasen at AEliasen@ba.org or 719-400-9545 \n 
URL:https://tri-lakescares.org/events/bethesda-gardens-monument-hop-out-hunger/
LOCATION:Bethesda Gardens\, 55 Beacon Lite Road\, Monument\, CO\, 80132\, United States
CATEGORIES:Event Benefiting Tri-Lakes Cares
ATTACH;FMTTYPE=image/png:https://tri-lakescares.org/wp-content/uploads/2024/02/Easter-1-scaled.png
END:VEVENT
END:VCALENDAR