BEGIN:VCALENDAR
VERSION:2.0
PRODID:-//Tri-Lakes Cares - ECPv6.15.20//NONSGML v1.0//EN
CALSCALE:GREGORIAN
METHOD:PUBLISH
X-WR-CALNAME:Tri-Lakes Cares
X-ORIGINAL-URL:https://tri-lakescares.org
X-WR-CALDESC:Events for Tri-Lakes Cares
REFRESH-INTERVAL;VALUE=DURATION:PT1H
X-Robots-Tag:noindex
X-PUBLISHED-TTL:PT1H
BEGIN:VTIMEZONE
TZID:America/Denver
BEGIN:DAYLIGHT
TZOFFSETFROM:-0700
TZOFFSETTO:-0600
TZNAME:MDT
DTSTART:20240310T090000
END:DAYLIGHT
BEGIN:STANDARD
TZOFFSETFROM:-0600
TZOFFSETTO:-0700
TZNAME:MST
DTSTART:20241103T080000
END:STANDARD
BEGIN:DAYLIGHT
TZOFFSETFROM:-0700
TZOFFSETTO:-0600
TZNAME:MDT
DTSTART:20250309T090000
END:DAYLIGHT
BEGIN:STANDARD
TZOFFSETFROM:-0600
TZOFFSETTO:-0700
TZNAME:MST
DTSTART:20251102T080000
END:STANDARD
BEGIN:DAYLIGHT
TZOFFSETFROM:-0700
TZOFFSETTO:-0600
TZNAME:MDT
DTSTART:20260308T090000
END:DAYLIGHT
BEGIN:STANDARD
TZOFFSETFROM:-0600
TZOFFSETTO:-0700
TZNAME:MST
DTSTART:20261101T080000
END:STANDARD
BEGIN:DAYLIGHT
TZOFFSETFROM:-0700
TZOFFSETTO:-0600
TZNAME:MDT
DTSTART:20270314T090000
END:DAYLIGHT
BEGIN:STANDARD
TZOFFSETFROM:-0600
TZOFFSETTO:-0700
TZNAME:MST
DTSTART:20271107T080000
END:STANDARD
END:VTIMEZONE
BEGIN:VEVENT
DTSTART;TZID=America/Denver:20260420T090000
DTEND;TZID=America/Denver:20260420T100000
DTSTAMP:20260421T091051
CREATED:20260310T223806Z
LAST-MODIFIED:20260310T223806Z
UID:28986-1776675600-1776679200@tri-lakescares.org
SUMMARY:Estate Planning 101 in Partnership with The Vinton Law Firm
DESCRIPTION:Save Time\, Money\, and Stress with Estate Planning 101! \nIn this session\, Attorney Brandi Jackson from The Vinton Law Firm will discuss: \n\nWhy everyone needs an estate plan\nWhat’s included in an estate plan\nWhy it’s more economical for professionals to do it\nHow it prevents stress in times of emergency and grief\n\nRefreshments and snacks will be served. All sessions will be held at Tri-Lakes Cares\, located at 235 N. Jefferson St. \nThis is a free event\, but please reserve your spot by emailing RSVP@Tri-LakesCares.org
URL:https://tri-lakescares.org/events/estate-planning-101-in-partnership-with-the-vinton-law-firm-2/
LOCATION:Tri-Lakes Cares\, 235 N. Jefferson St. Monument\, CO\, Monument\, CO\, 80132\, United States
CATEGORIES:Community Outreach and Advocacy
ATTACH;FMTTYPE=image/png:https://tri-lakescares.org/wp-content/uploads/2026/03/Estate-Planning-101-Graphic.png
ORGANIZER;CN="Tri-Lakes Cares":MAILTO:JessicaG@Tri-LakesCares.org
END:VEVENT
BEGIN:VEVENT
DTSTART;TZID=America/Denver:20260415T173000
DTEND;TZID=America/Denver:20260415T183000
DTSTAMP:20260421T091051
CREATED:20260310T223642Z
LAST-MODIFIED:20260310T223642Z
UID:28983-1776274200-1776277800@tri-lakescares.org
SUMMARY:Estate Planning 101 in Partnership with The Vinton Law Firm
DESCRIPTION:Save Time\, Money\, and Stress with Estate Planning 101! \nIn this session\, Attorney Brandi Jackson from The Vinton Law Firm will discuss: \n\nWhy everyone needs an estate plan\nWhat’s included in an estate plan\nWhy it’s more economical for professionals to do it\nHow it prevents stress in times of emergency and grief\n\nRefreshments and snacks will be served. All sessions will be held at Tri-Lakes Cares\, located at 235 N. Jefferson St. \nThis is a free event\, but please reserve your spot by emailing RSVP@Tri-LakesCares.org
URL:https://tri-lakescares.org/events/estate-planning-101-in-partnership-with-the-vinton-law-firm/
LOCATION:Tri-Lakes Cares\, 235 N. Jefferson St. Monument\, CO\, Monument\, CO\, 80132\, United States
CATEGORIES:Community Outreach and Advocacy
ATTACH;FMTTYPE=image/png:https://tri-lakescares.org/wp-content/uploads/2026/03/Estate-Planning-101-Graphic.png
ORGANIZER;CN="Tri-Lakes Cares":MAILTO:JessicaG@Tri-LakesCares.org
END:VEVENT
BEGIN:VEVENT
DTSTART;TZID=America/Denver:20260415T130000
DTEND;TZID=America/Denver:20260415T143000
DTSTAMP:20260421T091051
CREATED:20260317T195839Z
LAST-MODIFIED:20260317T200046Z
UID:28993-1776258000-1776263400@tri-lakescares.org
SUMMARY:Managing Conflict Without Escalation
DESCRIPTION:Tools for calmer\, more constructive conversations \nFeeling conflict in your life? Join us for a 90-minute interactive workshop led by Life Coach Nicole\, designed to help you navigate everyday challenges with greater calm and confidence. \nIn this workshop\, you’ll learn how to: \n\nUnderstand why conflict escalates\nLearn simple de-escalation tools\nPractice calmer communication\n\nPlease get in touch with Jessica Garrison\, as class enrollment is subject to space availability. JessicaG@Tri-LakesCares.org or 719-370-1323.
URL:https://tri-lakescares.org/events/managing-conflict-without-escalation/
LOCATION:Tri-Lakes Cares\, 235 N. Jefferson St. Monument\, CO\, Monument\, CO\, 80132\, United States
CATEGORIES:Community Outreach and Advocacy
ATTACH;FMTTYPE=image/png:https://tri-lakescares.org/wp-content/uploads/2026/03/Conflict-deescalation-scaled.png
ORGANIZER;CN="Tri-Lakes Cares":MAILTO:JessicaG@Tri-LakesCares.org
END:VEVENT
BEGIN:VEVENT
DTSTART;TZID=America/Denver:20260413T123000
DTEND;TZID=America/Denver:20260413T133000
DTSTAMP:20260421T091051
CREATED:20260310T223340Z
LAST-MODIFIED:20260310T223450Z
UID:28967-1776083400-1776087000@tri-lakescares.org
SUMMARY:Estate Planning 101 in Partnership with The Vinton Law Firm
DESCRIPTION:Save Time\, Money\, and Stress with Estate Planning 101! \nIn this session\, Attorney Brandi Jackson from The Vinton Law Firm will discuss: \n\nWhy everyone needs an estate plan\nWhat’s included in an estate plan\nWhy it’s more economical for professionals to do it\nHow it prevents stress in times of emergency and grief\n\nRefreshments and snacks will be served. All sessions will be held at Tri-Lakes Cares\, located at 235 N. Jefferson St. \nThis is a free event\, but please reserve your spot by emailing RSVP@Tri-LakesCares.org
URL:https://tri-lakescares.org/events/estate-planning-101-in-partnership-with-the-vinton-firm/
LOCATION:Tri-Lakes Cares\, 235 N. Jefferson St. Monument\, CO\, Monument\, CO\, 80132\, United States
CATEGORIES:Community Outreach and Advocacy
ATTACH;FMTTYPE=image/png:https://tri-lakescares.org/wp-content/uploads/2026/03/Estate-Planning-101-Graphic.png
ORGANIZER;CN="Tri-Lakes Cares":MAILTO:JessicaG@Tri-LakesCares.org
END:VEVENT
BEGIN:VEVENT
DTSTART;TZID=America/Denver:20251114T143000
DTEND;TZID=America/Denver:20251114T170000
DTSTAMP:20260421T091051
CREATED:20251019T170655Z
LAST-MODIFIED:20251023T155016Z
UID:26370-1763130600-1763139600@tri-lakescares.org
SUMMARY:UnCharitable Film Screening
DESCRIPTION:Presented by Tri-Lakes Cares\, Catholic Charities of Central Colorado\, and Homeward Pikes Peak \nJoin us for a powerful screening of UnCharitable\, a thought-provoking documentary that challenges traditional views on philanthropy and nonprofit work. Popcorn and water will be served during the screening. A panel discussion by our host nonprofits will follow the movie \nInspired by Dan Pallotta’s book Uncharitable\, the film explores how outdated views on charity have stifled four major American efforts. Through powerful stories and expert voices\, it reveals how embracing bold\, modern approaches can unlock charity’s true potential to build a better world for all. \nDate: November 14\, 2025 \nLocation: Library 21C. 1175 Chapel Hills Drive Colorado Springs\, CO 80920 \nTime: Doors open at 2:30 pm \nAdmission: Free\, but donations will be accepted \nRSVP: Please secure your spot by emailing RSVP@Tri-LakesCares.org. \nCome be part of the conversation about how we can better support meaningful change in our communities.
URL:https://tri-lakescares.org/events/uncharitable-film-screening/
LOCATION:Library 21C\, 1175 Chapel Hills Dr\, Colorado Springs\, CO\, 80920
CATEGORIES:Community Outreach and Advocacy
ATTACH;FMTTYPE=image/jpeg:https://tri-lakescares.org/wp-content/uploads/2025/10/uncharitable.jpeg
ORGANIZER;CN="Tri-Lakes Cares":MAILTO:JessicaG@Tri-LakesCares.org
END:VEVENT
BEGIN:VEVENT
DTSTART;TZID=America/Denver:20250723T080000
DTEND;TZID=America/Denver:20250723T120000
DTSTAMP:20260421T091051
CREATED:20250529T204158Z
LAST-MODIFIED:20250725T174148Z
UID:21044-1753257600-1753272000@tri-lakescares.org
SUMMARY:Poverty Simulator
DESCRIPTION:Unless you have experienced poverty\, it’s difficult to understand the reality of it. Join Tri-Lakes Cares for a 4-hour immersive learning experience where you will have the opportunity to walk in someone else’s shoes. \nDeepen Your Understanding- Immerse yourself in real-life scenarios that our neighbors experience daily. \nInspire Thinking- Use critical thinking to determine how to manage finances in poverty. \nPromote Change- Learn how to have an open-mind and how you can impact your community! \nThis event is free and open to the public\, but registration is required. Please sign up here.  \nWe will be accepting non-perishable food items. To view our current pantry needs\, click here.  \nPoverty Simulator Flyer
URL:https://tri-lakescares.org/events/poverty-simulator/
LOCATION:Lewis-Palmer School District 38\, 146 N. Jefferson St.\, Monument\, CO\, 80132\, United States
CATEGORIES:Community Outreach and Advocacy
ATTACH;FMTTYPE=image/jpeg:https://tri-lakescares.org/wp-content/uploads/2025/05/Poverty-Simulator-Class-scaled.jpg
ORGANIZER;CN="Tri-Lakes Cares":MAILTO:JessicaG@Tri-LakesCares.org
END:VEVENT
END:VCALENDAR